BEGIN:VCALENDAR
VERSION:2.0
PRODID:SchoolNow
CALSCALE:GREGORIAN
BEGIN:VEVENT
UID:c31bbf48-1dff-11eb-8256-0a12bfee3ffd
DTSTAMP:20201103T180949Z
SUMMARY:Girls Swim & Dive home vs. Jenison
URL;VALUE=URI:https://www.hudsonvillepublicschools.org/rileystreet/athletic
 s/calendar/2487867/girls-swim-dive-home-vs-jenison
DTSTART:20201201T210000Z
DTEND:20201201T223000Z
END:VEVENT
END:VCALENDAR
