BEGIN:VCALENDAR
VERSION:2.0
PRODID:SchoolNow
CALSCALE:GREGORIAN
BEGIN:VEVENT
UID:8de80836-1dff-11eb-ae86-0a1bf57a5f99
DTSTAMP:20201103T180819Z
SUMMARY:Girls Swim & Dive home vs. Hamilton
URL;VALUE=URI:https://www.hudsonvillepublicschools.org/rileystreet/athletic
 s/calendar/2487866/girls-swim-dive-home-vs-hamilton
DTSTART:20201123T210000Z
DTEND:20201123T223000Z
END:VEVENT
END:VCALENDAR
