BEGIN:VCALENDAR
VERSION:2.0
PRODID:SchoolNow
CALSCALE:GREGORIAN
BEGIN:VEVENT
UID:5a7a28e4-1dff-11eb-9145-1204c5e1d457
DTSTAMP:20201103T180653Z
SUMMARY:Girls Swim & Dive at WO
URL;VALUE=URI:https://www.hudsonvillepublicschools.org/rileystreet/athletic
 s/calendar/2487865/girls-swim-dive-at-wo
DTSTART:20201119T210000Z
DTEND:20201119T220000Z
END:VEVENT
END:VCALENDAR
