BEGIN:VCALENDAR
VERSION:2.0
PRODID:SchoolNow
CALSCALE:GREGORIAN
BEGIN:VEVENT
UID:6cef246c-1dfe-11eb-a2ce-0a12bfee3ffd
DTSTAMP:20201103T180015Z
SUMMARY:Boys Basketball at Valleywood
URL;VALUE=URI:https://www.hudsonvillepublicschools.org/rileystreet/athletic
 s/calendar/2487863/boys-basketball-at-valleywood
DTSTART:20201105T210000Z
DTEND:20201105T233000Z
END:VEVENT
END:VCALENDAR
