BEGIN:VCALENDAR
VERSION:2.0
PRODID:SchoolNow
CALSCALE:GREGORIAN
BEGIN:VEVENT
UID:43ec9afe-1dfe-11eb-a8ee-1268a6b52a9f
DTSTAMP:20201104T155117Z
SUMMARY:Eagle Select Basketball at Grandville
URL;VALUE=URI:https://www.hudsonvillepublicschools.org/rileystreet/athletic
 s/calendar/2487862/eagle-select-basketball-at-grandville
DTSTART:20201105T210000Z
DTEND:20201105T233000Z
END:VEVENT
END:VCALENDAR
