BEGIN:VCALENDAR
VERSION:2.0
PRODID:SchoolNow
CALSCALE:GREGORIAN
BEGIN:VEVENT
UID:16a3f4f2-1dfe-11eb-a7cc-0a1bf57a5f99
DTSTAMP:20201103T180356Z
SUMMARY:Girls Swim & Dive at East Kentwood
URL;VALUE=URI:https://www.hudsonvillepublicschools.org/rileystreet/athletic
 s/calendar/2487860/girls-swim-dive-at-east-kentwood
DTSTART:20201110T210000Z
DTEND:20201110T223000Z
END:VEVENT
END:VCALENDAR
