BEGIN:VCALENDAR
VERSION:2.0
PRODID:SchoolNow
CALSCALE:GREGORIAN
BEGIN:VEVENT
UID:f39d6ede-1dfd-11eb-9c0c-0a1bf57a5f99
DTSTAMP:20201103T180324Z
SUMMARY:Girls Swim & Dive at Grand Haven
URL;VALUE=URI:https://www.hudsonvillepublicschools.org/rileystreet/athletic
 s/calendar/2487859/girls-swim-dive-at-grand-haven
DTSTART:20201103T210000Z
DTEND:20201103T223000Z
END:VEVENT
END:VCALENDAR
