BEGIN:VCALENDAR
VERSION:2.0
PRODID:SchoolNow
CALSCALE:GREGORIAN
BEGIN:VEVENT
UID:57e5e80e-0d6d-11eb-8ddf-1226cb6563c7
DTSTAMP:20201013T160124Z
SUMMARY:Tennis Home vs. Holland
URL;VALUE=URI:https://www.hudsonvillepublicschools.org/rileystreet/athletic
 s/calendar/2453395/tennis-home-vs-holland
DTSTART:20201014T200000Z
DTEND:20201014T210000Z
END:VEVENT
END:VCALENDAR
