BEGIN:VCALENDAR
VERSION:2.0
PRODID:SchoolNow
CALSCALE:GREGORIAN
BEGIN:VEVENT
UID:5c9e7584-0d6b-11eb-a568-12134e281d4d
DTSTAMP:20201013T154713Z
SUMMARY:Maize Football home vs. Grandville
URL;VALUE=URI:https://www.hudsonvillepublicschools.org/rileystreet/athletic
 s/calendar/2453189/maize-football-home-vs-grandville
DTSTART:20201014T200000Z
DTEND:20201014T230000Z
END:VEVENT
END:VCALENDAR
