BEGIN:VCALENDAR
VERSION:2.0
PRODID:SchoolNow
CALSCALE:GREGORIAN
BEGIN:VEVENT
UID:6dbe99c6-0d6a-11eb-9419-123530081f2d
DTSTAMP:20201013T154032Z
SUMMARY:Blue Football at Home vs. Grand Haven
URL;VALUE=URI:https://www.hudsonvillepublicschools.org/rileystreet/athletic
 s/calendar/2453187/blue-football-at-home-vs-grand-haven
DTSTART:20201013T200000Z
DTEND:20201013T230000Z
END:VEVENT
END:VCALENDAR
