BEGIN:VCALENDAR
VERSION:2.0
PRODID:SchoolNow
CALSCALE:GREGORIAN
BEGIN:VEVENT
UID:819cdcfe-0d66-11eb-9fd2-1226cb6563c7
DTSTAMP:20201013T151227Z
SUMMARY:Maize Football at home vs. Hamilton
URL;VALUE=URI:https://www.hudsonvillepublicschools.org/rileystreet/athletic
 s/calendar/2453174/maize-football-at-home-vs-hamilton
DTSTART:20201020T200000Z
DTEND:20201020T210000Z
END:VEVENT
END:VCALENDAR
