BEGIN:VCALENDAR
VERSION:2.0
PRODID:SchoolNow
CALSCALE:GREGORIAN
BEGIN:VEVENT
UID:dcb70fd2-0d62-11eb-97d8-12134e281d4d
DTSTAMP:20201013T144622Z
SUMMARY:Blue Football at Holland Christian
URL;VALUE=URI:https://www.hudsonvillepublicschools.org/rileystreet/athletic
 s/calendar/2453157/blue-football-at-holland-christian
DTSTART:20201019T093000Z
DTEND:20201019T103000Z
END:VEVENT
END:VCALENDAR
