BEGIN:VCALENDAR
VERSION:2.0
PRODID:SchoolNow
CALSCALE:GREGORIAN
BEGIN:VEVENT
UID:2ade375c-fa90-11ea-bd2d-124888cc6fe5
DTSTAMP:20200919T155248Z
SUMMARY:Girls tennis home vs. Holland
URL;VALUE=URI:https://www.hudsonvillepublicschools.org/rileystreet/athletic
 s/calendar/2367692/girls-tennis-home-vs-holland
DTSTART:20201012T200000Z
DTEND:20201012T220000Z
END:VEVENT
END:VCALENDAR
