BEGIN:VCALENDAR
VERSION:2.0
PRODID:SchoolNow
CALSCALE:GREGORIAN
BEGIN:VEVENT
UID:638d4850-fa8f-11ea-9dc6-0a2fd307d249
DTSTAMP:20200919T154714Z
SUMMARY:Girls Tennis home vs. Zeeland Cityside
URL;VALUE=URI:https://www.hudsonvillepublicschools.org/rileystreet/athletic
 s/calendar/2367555/girls-tennis-home-vs-zeeland-cityside
DTSTART:20201008T200000Z
DTEND:20201008T220000Z
END:VEVENT
END:VCALENDAR
