BEGIN:VCALENDAR
VERSION:2.0
PRODID:SchoolNow
CALSCALE:GREGORIAN
BEGIN:VEVENT
UID:294dd614-fa8f-11ea-a5c0-0a6edfa7cd93
DTSTAMP:20200919T154536Z
SUMMARY:Girls Tennis at West Ottawa
URL;VALUE=URI:https://www.hudsonvillepublicschools.org/rileystreet/athletic
 s/calendar/2367554/girls-tennis-at-west-ottawa
DTSTART:20201006T200000Z
DTEND:20201006T220000Z
END:VEVENT
END:VCALENDAR
