BEGIN:VCALENDAR
VERSION:2.0
PRODID:SchoolNow
CALSCALE:GREGORIAN
BEGIN:VEVENT
UID:cef75686-fa8e-11ea-9b45-124888cc6fe5
DTSTAMP:20200919T154305Z
SUMMARY:Girls Tennis home Vs. Grand Haven
URL;VALUE=URI:https://www.hudsonvillepublicschools.org/rileystreet/athletic
 s/calendar/2367385/girls-tennis-home-vs-grand-haven
DTSTART:20201001T200000Z
DTEND:20201001T220000Z
END:VEVENT
END:VCALENDAR
