BEGIN:VCALENDAR
VERSION:2.0
PRODID:SchoolNow
CALSCALE:GREGORIAN
BEGIN:VEVENT
UID:348909aa-fa8e-11ea-a06d-0a2fd307d249
DTSTAMP:20200919T153846Z
SUMMARY:Girls Tennis at Hamilton
URL;VALUE=URI:https://www.hudsonvillepublicschools.org/rileystreet/athletic
 s/calendar/2367384/girls-tennis-at-hamilton
DTSTART:20200929T200000Z
DTEND:20200929T220000Z
END:VEVENT
END:VCALENDAR
