BEGIN:VCALENDAR
VERSION:2.0
PRODID:SchoolNow
CALSCALE:GREGORIAN
BEGIN:VEVENT
UID:fcf50ed0-fa8d-11ea-85c8-0a2fd307d249
DTSTAMP:20200919T153712Z
SUMMARY:Girls Tennis at Baldwin
URL;VALUE=URI:https://www.hudsonvillepublicschools.org/rileystreet/athletic
 s/calendar/2367349/girls-tennis-at-baldwin
DTSTART:20200924T200000Z
DTEND:20200924T220000Z
END:VEVENT
END:VCALENDAR
