BEGIN:VCALENDAR
VERSION:2.0
PRODID:SchoolNow
CALSCALE:GREGORIAN
BEGIN:VEVENT
UID:e062ddba-fa8d-11ea-b059-0a2fd307d249
DTSTAMP:20200919T153625Z
SUMMARY:Girls tennis at Grandville
URL;VALUE=URI:https://www.hudsonvillepublicschools.org/rileystreet/athletic
 s/calendar/2367348/girls-tennis-at-grandville
DTSTART:20200922T200000Z
DTEND:20200922T220000Z
END:VEVENT
END:VCALENDAR
