BEGIN:VCALENDAR
VERSION:2.0
PRODID:SchoolNow
CALSCALE:GREGORIAN
BEGIN:VEVENT
UID:283d61f6-fa8d-11ea-931f-0a2fd307d249
DTSTAMP:20200919T153116Z
SUMMARY:Volleyball at Reeths Puffer
URL;VALUE=URI:https://www.hudsonvillepublicschools.org/rileystreet/athletic
 s/calendar/2367347/volleyball-at-reeths-puffer
DTSTART:20201013T200000Z
DTEND:20201013T220000Z
END:VEVENT
END:VCALENDAR
