BEGIN:VCALENDAR
VERSION:2.0
PRODID:SchoolNow
CALSCALE:GREGORIAN
BEGIN:VEVENT
UID:f1a091d6-fa8c-11ea-90ed-124888cc6fe5
DTSTAMP:20200919T152944Z
SUMMARY:Volleyball 8th Grade at Reeths Puffer
URL;VALUE=URI:https://www.hudsonvillepublicschools.org/rileystreet/athletic
 s/calendar/2367346/volleyball-8th-grade-at-reeths-puffer
DTSTART:20201010T130000Z
DTEND:20201010T160000Z
END:VEVENT
END:VCALENDAR
