BEGIN:VCALENDAR
VERSION:2.0
PRODID:SchoolNow
CALSCALE:GREGORIAN
BEGIN:VEVENT
UID:b0e1bd6e-fa8c-11ea-ad78-0a2fd307d249
DTSTAMP:20200919T152755Z
SUMMARY:Volleyball at Grand Haven Blue
URL;VALUE=URI:https://www.hudsonvillepublicschools.org/rileystreet/athletic
 s/calendar/2367345/volleyball-at-grand-haven-blue
DTSTART:20201008T200000Z
DTEND:20201008T220000Z
END:VEVENT
END:VCALENDAR
