BEGIN:VCALENDAR
VERSION:2.0
PRODID:SchoolNow
CALSCALE:GREGORIAN
BEGIN:VEVENT
UID:9ef8c40e-fa8b-11ea-a70a-0a6edfa7cd93
DTSTAMP:20200919T152016Z
SUMMARY:Volleyball home vs. Hamilton
URL;VALUE=URI:https://www.hudsonvillepublicschools.org/rileystreet/athletic
 s/calendar/2367344/volleyball-home-vs-hamilton
DTSTART:20201006T200000Z
DTEND:20201006T220000Z
END:VEVENT
END:VCALENDAR
