BEGIN:VCALENDAR
VERSION:2.0
PRODID:SchoolNow
CALSCALE:GREGORIAN
BEGIN:VEVENT
UID:6e3ae96e-fa8b-11ea-a56a-0a6edfa7cd93
DTSTAMP:20200919T151854Z
SUMMARY:Volleyball (7th) at Mona Shores
URL;VALUE=URI:https://www.hudsonvillepublicschools.org/rileystreet/athletic
 s/calendar/2367343/volleyball-7th-at-mona-shores
DTSTART:20201003T130000Z
DTEND:20201003T170000Z
END:VEVENT
END:VCALENDAR
