BEGIN:VCALENDAR
VERSION:2.0
PRODID:SchoolNow
CALSCALE:GREGORIAN
BEGIN:VEVENT
UID:21c6c760-fa8b-11ea-af50-124888cc6fe5
DTSTAMP:20200919T151646Z
SUMMARY:Volleyball at Jenison
URL;VALUE=URI:https://www.hudsonvillepublicschools.org/rileystreet/athletic
 s/calendar/2367342/volleyball-at-jenison
DTSTART:20201001T200000Z
DTEND:20201001T220000Z
END:VEVENT
END:VCALENDAR
