BEGIN:VCALENDAR
VERSION:2.0
PRODID:SchoolNow
CALSCALE:GREGORIAN
BEGIN:VEVENT
UID:e4956b76-fa8a-11ea-b954-124888cc6fe5
DTSTAMP:20200919T151503Z
SUMMARY:Volleyball home vs. Holland
URL;VALUE=URI:https://www.hudsonvillepublicschools.org/rileystreet/athletic
 s/calendar/2367341/volleyball-home-vs-holland
DTSTART:20200929T200000Z
DTEND:20200929T220000Z
END:VEVENT
END:VCALENDAR
