BEGIN:VCALENDAR
VERSION:2.0
PRODID:SchoolNow
CALSCALE:GREGORIAN
BEGIN:VEVENT
UID:b2305f74-fa8a-11ea-9245-0a6edfa7cd93
DTSTAMP:20200919T151339Z
SUMMARY:Volleyball at Grand Haven Tournament
URL;VALUE=URI:https://www.hudsonvillepublicschools.org/rileystreet/athletic
 s/calendar/2367340/volleyball-at-grand-haven-tournament
DTSTART:20200926T173000Z
DTEND:20200926T203000Z
END:VEVENT
END:VCALENDAR
