BEGIN:VCALENDAR
VERSION:2.0
PRODID:SchoolNow
CALSCALE:GREGORIAN
BEGIN:VEVENT
UID:60968ef4-fa8a-11ea-b6c5-0a2fd307d249
DTSTAMP:20200919T151122Z
SUMMARY:Volleyball at Baldwin St.
URL;VALUE=URI:https://www.hudsonvillepublicschools.org/rileystreet/athletic
 s/calendar/2367339/volleyball-at-baldwin-st
DTSTART:20200924T200000Z
DTEND:20200924T220000Z
END:VEVENT
END:VCALENDAR
