BEGIN:VCALENDAR
VERSION:2.0
PRODID:SchoolNow
CALSCALE:GREGORIAN
BEGIN:VEVENT
UID:40cad1ac-fa8a-11ea-9807-0a2fd307d249
DTSTAMP:20200919T151028Z
SUMMARY:Girls Volleyball home vs. Zeeland Cityside
URL;VALUE=URI:https://www.hudsonvillepublicschools.org/rileystreet/athletic
 s/calendar/2367338/girls-volleyball-home-vs-zeeland-cityside
DTSTART:20200922T200000Z
DTEND:20200922T223000Z
END:VEVENT
END:VCALENDAR
