BEGIN:VCALENDAR
VERSION:2.0
PRODID:SchoolNow
CALSCALE:GREGORIAN
BEGIN:VEVENT
UID:1acf307c-fa87-11ea-b6dd-124888cc6fe5
DTSTAMP:20200919T144756Z
SUMMARY:Boys Soccer home vs. Jenison
URL;VALUE=URI:https://www.hudsonvillepublicschools.org/rileystreet/athletic
 s/calendar/2367337/boys-soccer-home-vs-jenison
DTSTART:20201015T200000Z
DTEND:20201015T220000Z
END:VEVENT
END:VCALENDAR
