BEGIN:VCALENDAR
VERSION:2.0
PRODID:SchoolNow
CALSCALE:GREGORIAN
BEGIN:VEVENT
UID:e96b83aa-fa86-11ea-944e-124888cc6fe5
DTSTAMP:20201013T155133Z
SUMMARY:Boys Soccer at Grandville
URL;VALUE=URI:https://www.hudsonvillepublicschools.org/rileystreet/athletic
 s/calendar/2367336/boys-soccer-at-grandville
DTSTART:20201013T200000Z
DTEND:20201013T220000Z
END:VEVENT
END:VCALENDAR
