BEGIN:VCALENDAR
VERSION:2.0
PRODID:SchoolNow
CALSCALE:GREGORIAN
BEGIN:VEVENT
UID:b2cac752-fa86-11ea-900d-124888cc6fe5
DTSTAMP:20200919T144502Z
SUMMARY:Boys Soccer at Jenison
URL;VALUE=URI:https://www.hudsonvillepublicschools.org/rileystreet/athletic
 s/calendar/2367335/boys-soccer-at-jenison
DTSTART:20201008T200000Z
DTEND:20201008T220000Z
END:VEVENT
END:VCALENDAR
