BEGIN:VCALENDAR
VERSION:2.0
PRODID:SchoolNow
CALSCALE:GREGORIAN
BEGIN:VEVENT
UID:7c9d221a-fa86-11ea-83d1-0a2fd307d249
DTSTAMP:20200919T144331Z
SUMMARY:Boys Soccer at Zeeland Creekside
URL;VALUE=URI:https://www.hudsonvillepublicschools.org/rileystreet/athletic
 s/calendar/2367334/boys-soccer-at-zeeland-creekside
DTSTART:20201006T200000Z
DTEND:20201006T220000Z
END:VEVENT
END:VCALENDAR
