BEGIN:VCALENDAR
VERSION:2.0
PRODID:SchoolNow
CALSCALE:GREGORIAN
BEGIN:VEVENT
UID:44932752-fa86-11ea-836d-124888cc6fe5
DTSTAMP:20200919T144157Z
SUMMARY:Boys Soccer at Muskegon/Byron Center
URL;VALUE=URI:https://www.hudsonvillepublicschools.org/rileystreet/athletic
 s/calendar/2367333/boys-soccer-at-muskegon-byron-center
DTSTART:20200929T200000Z
DTEND:20200929T210000Z
END:VEVENT
END:VCALENDAR
