BEGIN:VCALENDAR
VERSION:2.0
PRODID:SchoolNow
CALSCALE:GREGORIAN
BEGIN:VEVENT
UID:f92fc342-fa85-11ea-a0aa-0a6edfa7cd93
DTSTAMP:20200919T143950Z
SUMMARY:Boys Soccer home vs. Grandville
URL;VALUE=URI:https://www.hudsonvillepublicschools.org/rileystreet/athletic
 s/calendar/2367298/boys-soccer-home-vs-grandville
DTSTART:20200924T200000Z
DTEND:20200924T220000Z
END:VEVENT
END:VCALENDAR
