BEGIN:VCALENDAR
VERSION:2.0
PRODID:SchoolNow
CALSCALE:GREGORIAN
BEGIN:VEVENT
UID:d7232636-fa85-11ea-91aa-0a6edfa7cd93
DTSTAMP:20200919T143853Z
SUMMARY:Boys Soccer at West Ottawa
URL;VALUE=URI:https://www.hudsonvillepublicschools.org/rileystreet/athletic
 s/calendar/2367297/boys-soccer-at-west-ottawa
DTSTART:20200922T200000Z
DTEND:20200922T220000Z
END:VEVENT
END:VCALENDAR
