BEGIN:VCALENDAR
VERSION:2.0
PRODID:SchoolNow
CALSCALE:GREGORIAN
BEGIN:VEVENT
UID:b45b0ed4-fa85-11ea-be59-0a6edfa7cd93
DTSTAMP:20200919T143755Z
SUMMARY:Boys Soccer home vs. Hamilton
URL;VALUE=URI:https://www.hudsonvillepublicschools.org/rileystreet/athletic
 s/calendar/2367296/boys-soccer-home-vs-hamilton
DTSTART:20200921T200000Z
DTEND:20200921T220000Z
END:VEVENT
END:VCALENDAR
