BEGIN:VCALENDAR
VERSION:2.0
PRODID:SchoolNow
CALSCALE:GREGORIAN
BEGIN:VEVENT
UID:fa9515da-fa84-11ea-bd59-0a2fd307d249
DTSTAMP:20200919T143243Z
SUMMARY:Cross Country Conference Meet - TBD
URL;VALUE=URI:https://www.hudsonvillepublicschools.org/rileystreet/athletic
 s/calendar/2367269/cross-country-conference-meet-tbd
DTSTART:20201014T200000Z
DTEND:20201014T220000Z
END:VEVENT
END:VCALENDAR
