BEGIN:VCALENDAR
VERSION:2.0
PRODID:SchoolNow
CALSCALE:GREGORIAN
BEGIN:VEVENT
UID:cefa019c-fa84-11ea-8734-0a2fd307d249
DTSTAMP:20200919T143130Z
SUMMARY:Cross Country at GR MS Invite - NE Campus
URL;VALUE=URI:https://www.hudsonvillepublicschools.org/rileystreet/athletic
 s/calendar/2367267/cross-country-at-gr-ms-invite-ne-campus
DTSTART:20201010T170000Z
DTEND:20201010T190000Z
END:VEVENT
END:VCALENDAR
