BEGIN:VCALENDAR
VERSION:2.0
PRODID:SchoolNow
CALSCALE:GREGORIAN
BEGIN:VEVENT
UID:6a80f05e-fa84-11ea-87c5-0a6edfa7cd93
DTSTAMP:20200919T142841Z
SUMMARY:Cross Country Home vs. Grand Haven at Riley
URL;VALUE=URI:https://www.hudsonvillepublicschools.org/rileystreet/athletic
 s/calendar/2367266/cross-country-home-vs-grand-haven-at-riley
DTSTART:20201007T203000Z
DTEND:20201007T220000Z
END:VEVENT
END:VCALENDAR
