BEGIN:VCALENDAR
VERSION:2.0
PRODID:SchoolNow
CALSCALE:GREGORIAN
BEGIN:VEVENT
UID:c94371d0-fa83-11ea-810b-124888cc6fe5
DTSTAMP:20200919T142411Z
SUMMARY:Cross Country Home vs. Jenison at Riley
URL;VALUE=URI:https://www.hudsonvillepublicschools.org/rileystreet/athletic
 s/calendar/2367265/cross-country-home-vs-jenison-at-riley
DTSTART:20201005T203000Z
DTEND:20201005T220000Z
END:VEVENT
END:VCALENDAR
