BEGIN:VCALENDAR
VERSION:2.0
PRODID:SchoolNow
CALSCALE:GREGORIAN
BEGIN:VEVENT
UID:a457d3f2-fa83-11ea-af39-124888cc6fe5
DTSTAMP:20200919T142309Z
SUMMARY:Cross Country Home vs. West Ottawa at Riley
URL;VALUE=URI:https://www.hudsonvillepublicschools.org/rileystreet/athletic
 s/calendar/2367264/cross-country-home-vs-west-ottawa-at-riley
DTSTART:20200930T203000Z
DTEND:20200930T220000Z
END:VEVENT
END:VCALENDAR
