BEGIN:VCALENDAR
VERSION:2.0
PRODID:SchoolNow
CALSCALE:GREGORIAN
BEGIN:VEVENT
UID:eadcfb84-3c8f-11ea-9155-0aca0aaa43a3
DTSTAMP:20200121T205220Z
SUMMARY:Wrestling at Grand Haven Invitational
URL;VALUE=URI:https://www.hudsonvillepublicschools.org/rileystreet/athletic
 s/calendar/2184647/wrestling-at-grand-haven-invitational
DTSTART:20200314T130000Z
DTEND:20200314T170000Z
END:VEVENT
END:VCALENDAR
