BEGIN:VCALENDAR
VERSION:2.0
PRODID:SchoolNow
CALSCALE:GREGORIAN
BEGIN:VEVENT
UID:ab7de926-3c8f-11ea-ab3e-0aca0aaa43a3
DTSTAMP:20200121T205034Z
SUMMARY:Wrestling home vs. Grandville
URL;VALUE=URI:https://www.hudsonvillepublicschools.org/rileystreet/athletic
 s/calendar/2184646/wrestling-home-vs-grandville
DTSTART:20200305T210000Z
DTEND:20200306T000000Z
END:VEVENT
END:VCALENDAR
