BEGIN:VCALENDAR
VERSION:2.0
PRODID:SchoolNow
CALSCALE:GREGORIAN
BEGIN:VEVENT
UID:73b33960-3c8f-11ea-994e-1224e1b33327
DTSTAMP:20200121T204900Z
SUMMARY:Wrestling at Mona Shores
URL;VALUE=URI:https://www.hudsonvillepublicschools.org/rileystreet/athletic
 s/calendar/2184642/wrestling-at-mona-shores
DTSTART:20200303T210000Z
DTEND:20200304T000000Z
END:VEVENT
END:VCALENDAR
