BEGIN:VCALENDAR
VERSION:2.0
PRODID:SchoolNow
CALSCALE:GREGORIAN
BEGIN:VEVENT
UID:4b8c2a0a-3c8f-11ea-b751-125dca4abca7
DTSTAMP:20200121T204753Z
SUMMARY:Wrestling at Valleywood
URL;VALUE=URI:https://www.hudsonvillepublicschools.org/rileystreet/athletic
 s/calendar/2184640/wrestling-at-valleywood
DTSTART:20200227T210000Z
DTEND:20200228T000000Z
END:VEVENT
END:VCALENDAR
