BEGIN:VCALENDAR
VERSION:2.0
PRODID:SchoolNow
CALSCALE:GREGORIAN
BEGIN:VEVENT
UID:11288eb2-3c8f-11ea-836f-125dca4abca7
DTSTAMP:20200121T204615Z
SUMMARY:Wrestling home vs. Byron Center
URL;VALUE=URI:https://www.hudsonvillepublicschools.org/rileystreet/athletic
 s/calendar/2184635/wrestling-home-vs-byron-center
DTSTART:20200225T210000Z
DTEND:20200226T000000Z
END:VEVENT
END:VCALENDAR
