BEGIN:VCALENDAR
VERSION:2.0
PRODID:SchoolNow
CALSCALE:GREGORIAN
BEGIN:VEVENT
UID:98d4fbc6-3c8e-11ea-acd8-1224e1b33327
DTSTAMP:20200121T204253Z
SUMMARY:Wrestling at WO Invitational
URL;VALUE=URI:https://www.hudsonvillepublicschools.org/rileystreet/athletic
 s/calendar/2184632/wrestling-at-wo-invitational
DTSTART:20200222T170000Z
DTEND:20200223T034100Z
END:VEVENT
END:VCALENDAR
