BEGIN:VCALENDAR
VERSION:2.0
PRODID:SchoolNow
CALSCALE:GREGORIAN
BEGIN:VEVENT
UID:536aadc4-3c8e-11ea-b36f-125dca4abca7
DTSTAMP:20200121T204057Z
SUMMARY:Wrestling home vs. Crestwood
URL;VALUE=URI:https://www.hudsonvillepublicschools.org/rileystreet/athletic
 s/calendar/2184631/wrestling-home-vs-crestwood
DTSTART:20200219T210000Z
DTEND:20200220T000000Z
END:VEVENT
END:VCALENDAR
