BEGIN:VCALENDAR
VERSION:2.0
PRODID:SchoolNow
CALSCALE:GREGORIAN
BEGIN:VEVENT
UID:14c0558a-3c8c-11ea-a01f-125dca4abca7
DTSTAMP:20200121T204639Z
SUMMARY:Wrestling home vs. Jenison
URL;VALUE=URI:https://www.hudsonvillepublicschools.org/rileystreet/athletic
 s/calendar/2184627/riley-wrestling-home-vs-jenison
DTSTART:20200213T210000Z
DTEND:20200214T000000Z
END:VEVENT
END:VCALENDAR
